BEGIN:VCALENDAR
VERSION:2.0
PRODID:-//Museo||Gregorio||Prieto - ECPv6.10.3//NONSGML v1.0//EN
CALSCALE:GREGORIAN
METHOD:PUBLISH
X-WR-CALNAME:Museo||Gregorio||Prieto
X-ORIGINAL-URL:https://gregorioprieto.org
X-WR-CALDESC:Eventos para Museo||Gregorio||Prieto
REFRESH-INTERVAL;VALUE=DURATION:PT1H
X-Robots-Tag:noindex
X-PUBLISHED-TTL:PT1H
BEGIN:VTIMEZONE
TZID:Europe/Madrid
BEGIN:DAYLIGHT
TZOFFSETFROM:+0100
TZOFFSETTO:+0200
TZNAME:CEST
DTSTART:20230326T010000
END:DAYLIGHT
BEGIN:STANDARD
TZOFFSETFROM:+0200
TZOFFSETTO:+0100
TZNAME:CET
DTSTART:20231029T010000
END:STANDARD
END:VTIMEZONE
BEGIN:VEVENT
DTSTART;TZID=Europe/Madrid:20230520T210000
DTEND;TZID=Europe/Madrid:20230520T235900
DTSTAMP:20260425T020346
CREATED:20230505T122206Z
LAST-MODIFIED:20230518T113606Z
UID:43589-1684616400-1684627140@gregorioprieto.org
SUMMARY:Noche de los Museos 2023
DESCRIPTION:La Noche de los Museos en el Museo Gregorio Prieto (2023)\nEl Museo Gregorio Prieto se suma a la iniciativa de la “Noche de los Museos” 2023 y ofrece una experiencia cultural única para todos los ciudadanos de Valdepeñas y sus visitantes. El sábado 20 de mayo\, el museo cambiará su horario habitual de tarde para abrir sus puertas desde las 21h hasta la medianoche\, ofreciendo entrada gratuita para todos los interesados en conocer la vida y obra del gran artista valdepeñero. \nAdemás\, el museo ha preparado una serie de visitas guiadas que incluyen áreas que normalmente no están abiertas al público como los almacenes que custodian la obra artística del pintor o la bodega\, una estancia separada de las salas de exposiciones pero que forma parte de la casa señorial de finales del siglo XVII donde se encuentra ubicado el museo. Las visitas serán guiadas por el personal del Museo Gregorio Prieto\, quienes explicarán las remodelaciones llevadas a cabo en esta nueva etapa del museo y mostrarán el trabajo que se realiza de puertas para adentro. \nSerán tres las visitas programadas ese sábado: A las 21:15h\, 22:15h y a las 22:45h y tendrán una duración aproximada de una hora y media\, y se ha establecido un máximo de 16 personas por grupo debido al espacio reducido de algunas de las estancias privadas del museo. Para reservar una entrada gratuita a las visitas guiadas\, se podrá hacer desde esta página o en la taquilla del museo\, a partir del sábado 13 de mayo a las 11h. Se podrán retirar un máximo de dos entradas por persona. \nPARA ACCEDER LIBREMENTE AL MUSEO (SIN VISITA GUIADA) NO ES NECESARIO RESERVAR ENTRADA \nHORARIOS Y TARIFAS\nEntrada gratuita.  \nDía: Sábado\, 20 de mayo 2023 \nHora: El Museo estará abierto en horario de tarde de 21h a 00h. \nHoras visitas guiadas: A las 21:15h\, 22:15h y a las 22:45h. Máximo 16 visitantes por grupo. Es imprescindible reservar plaza. Duración aproximada de la visita 1:15h. \nLugar: Museo Gregorio Prieto. C/Unión 10 (13300 Valdepeñas) \nCOMO CONSEGUIR ENTRADAS PARA LAS VISITAS GUIADAS\nEl evento es de carácter gratuito.  Dado el aforo limitado de algunas estancias del Museo\, se programa la siguiente puesta a disposición de entradas gratuitas al público para las visitas guiadas: \n– 16 entradas para la visita guiada de las 21:15h.\n– 16 entradas para la visita guiada de las 22:15h.\n– 16 entradas para la visita guiada de las 22:45h. \nPodrán retirarse un máximo de 2 entradas por persona. \nIMPORTANTE: \n\nPara acceder al museo libremente\, sin visita guiada\, no es necesario reservar entrada.\nSi las entradas para las visitas guiadas son para una persona con movilidad reducida es necesario contactar previamente con el Museo Gregorio Prieto antes de adquirirlas.\nDeberá escoger la hora a la que desea asistir a la visita guiada.\nLas visitas guiadas se realizarán en español.\nDebido al carácter gratuito de las entradas\, los asistentes deberán llegar al museo al menos 10 minutos antes de la hora del comienzo de la visita guiada. Cinco minutos antes del comienzo de la visita\, si las entradas no han sido validadas en taquilla\, las plazas que ha reservado quedarán libres y a disposición del Museo Gregorio Prieto\, y podrán ser ocupadas por otras personas. Rogamos llegar con la suficiente antelación al museo. Consulta el resto de condiciones de los conciertos y otros eventos en el Museo Gregorio Prieto.\n\n \n \n  \n  \n 
URL:https://gregorioprieto.org/evento/noche-museos-2023/
LOCATION:Museo Gregorio Prieto\, Calle Unión 10\, Valdepeñas\, Ciudad Real\, 13300\, España
CATEGORIES:Programación especial
ATTACH;FMTTYPE=image/webp:https://gregorioprieto.org/wp-content/uploads/Noche-de-los-museos-2023-banner-web.webp
END:VEVENT
END:VCALENDAR