BEGIN:VCALENDAR
VERSION:2.0
PRODID:-//Museo||Gregorio||Prieto - ECPv6.10.3//NONSGML v1.0//EN
CALSCALE:GREGORIAN
METHOD:PUBLISH
X-WR-CALNAME:Museo||Gregorio||Prieto
X-ORIGINAL-URL:https://gregorioprieto.org
X-WR-CALDESC:Eventos para Museo||Gregorio||Prieto
REFRESH-INTERVAL;VALUE=DURATION:PT1H
X-Robots-Tag:noindex
X-PUBLISHED-TTL:PT1H
BEGIN:VTIMEZONE
TZID:Europe/Madrid
BEGIN:DAYLIGHT
TZOFFSETFROM:+0100
TZOFFSETTO:+0200
TZNAME:CEST
DTSTART:20230326T010000
END:DAYLIGHT
BEGIN:STANDARD
TZOFFSETFROM:+0200
TZOFFSETTO:+0100
TZNAME:CET
DTSTART:20231029T010000
END:STANDARD
END:VTIMEZONE
BEGIN:VEVENT
DTSTART;TZID=Europe/Madrid:20230410T123000
DTEND;TZID=Europe/Madrid:20230410T134000
DTSTAMP:20260425T014946
CREATED:20230316T120725Z
LAST-MODIFIED:20230325T085611Z
UID:42128-1681129800-1681134000@gregorioprieto.org
SUMMARY:Café Zimmermann de Radio Clásica en el Museo Gregorio Prieto
DESCRIPTION:Café Zimmermann de Radio Clásica\, en el Museo Gregorio Prieto.\nEl Museo Gregorio Prieto acogerá el próximo lunes 10 de abril\, a las 12:30h\, la grabación del programa de Radio Clásica Café Zimmermann\, presentado por la violonchelista Clara Sánchez y la musicóloga Eva Sandoval. Este evento tendrá lugar en el Patio de Columnas del museo\, y contará con la actuación musical en directo del Dúo Arcadia\, formado por Pilar Rius y Avelina Vidal\, dos guitarristas españolas contemporáneas cuyo repertorio abarca tanto composiciones clásicas de la Generación del 27 musical como nuevas creaciones de compositoras de música contemporánea\, representativas de los siglos XX y XXI. \nEl programa Café Zimmermann toma su nombre de la célebre Cafetería Zimmermann de Leipzig\, que fue testigo de varios estrenos de Johann Sebastian Bach y sede del Collegium Musicum de Georg Philipp Telemann en las primeras décadas del siglo XVIII. En este caso\, el Patio de Columnas del Museo Gregorio Prieto será el escenario para la grabación de este programa de radio\, que se emitirá en Radio Clásica el viernes 14 de abril con motivo del Día del arte (sábado 15 de abril). \nLa actuación del Dúo Arcadia será un adelanto del concierto que ofrecerán en el Museo Gregorio Prieto en el mes de junio. La vocación de este dúo por la promoción de nuevas obras y nuevas compositoras\, que enlaza con el espíritu del Certamen de Dibujo Gregorio Prieto\, tendrá representación en el repertorio que interpretarán. Así mismo\, la maternidad\, la mujer o la vinculación del propio Prieto con músicos como Joaquín Rodrigo\, estarán presentes en esta atractiva propuesta musical. \nEs posible asistir como público de manera gratuita a la grabación del programa\, pero debido al aforo limitado del espacio\, el museo programará una reserva de entradas. \nHORARIOS Y TARIFAS\nEntrada gratuita \nDía: Lunes\, 10 de abril 2023 \nHora: 12:30h (duración aproximada del evento\, 70 minutos aprox.) \nLugar: Patio de Columnas del Museo Gregorio Prieto. C/Unión 10 (13300 Valdepeñas) \nDe acuerdo con nuestro horario de cierre habitual para los días lunes\, el resto de las salas y exposiciones del museo permanecerán cerradas al público. \nCOMO CONSEGUIR ENTRADAS\nEl evento es de carácter gratuito.  Dado el aforo limitado del espacio se programa la siguiente puesta a disposición de entradas gratuitas al público: \n– 50 entradas en la taquilla del museo. A partir del sábado 25 de marzo a las 10h.\n– 50 entradas online en esta página web. A partir del sábado 25 de marzo a las 10h.\n– Resto de entradas en la taquilla del museo el mismo día del evento\, desde las 10h. \nPodrán retirarse un máximo de 2 entradas por persona. \nIMPORTANTE:\n– Las entradas al evento no son numeradas.\n– Debido al carácter gratuito de las entradas\, los asistentes deberán ocupar sus asientos al menos 15 minutos antes de la hora del evento. Diez minutos antes del comienzo del evento\, si las entradas no han sido validadas en taquilla\, las plazas que ha reservado quedarán libres y a disposición del Museo Gregorio Prieto\, y podrán ser ocupadas por otras personas.\n– Una vez que haya comenzado la grabación del programa\, no se permitirá el acceso a la sala.\nRogamos llegar con la suficiente antelación al Museo. \nConsulta el resto de condiciones de los conciertos y otros eventos en el Museo Gregorio Prieto.
URL:https://gregorioprieto.org/evento/cafe-zimmermann-radio-clasica-museo-gregorio-prieto/
LOCATION:Museo Gregorio Prieto\, Calle Unión 10\, Valdepeñas\, Ciudad Real\, 13300\, España
CATEGORIES:Concierto,Programa de radio
ATTACH;FMTTYPE=image/webp:https://gregorioprieto.org/wp-content/uploads/01-Eva-Sandoval-y-Clara-Sánchez-presentadoras-de-Café-Zimmermann-de-Radio-Clasica-Museo-Gregorio-Prieto-scaled.webp
END:VEVENT
END:VCALENDAR